BEGIN:VCALENDAR
VERSION:2.0
PRODID:-//Courtenay and District Museum &amp; Palaeontology Centre - ECPv6.15.17.1//NONSGML v1.0//EN
CALSCALE:GREGORIAN
METHOD:PUBLISH
X-ORIGINAL-URL:https://www.courtenaymuseum.ca
X-WR-CALDESC:Events for Courtenay and District Museum &amp; Palaeontology Centre
REFRESH-INTERVAL;VALUE=DURATION:PT1H
X-Robots-Tag:noindex
X-PUBLISHED-TTL:PT1H
BEGIN:VTIMEZONE
TZID:America/Vancouver
BEGIN:DAYLIGHT
TZOFFSETFROM:-0800
TZOFFSETTO:-0700
TZNAME:PDT
DTSTART:20240310T100000
END:DAYLIGHT
BEGIN:STANDARD
TZOFFSETFROM:-0700
TZOFFSETTO:-0800
TZNAME:PST
DTSTART:20241103T090000
END:STANDARD
BEGIN:DAYLIGHT
TZOFFSETFROM:-0800
TZOFFSETTO:-0700
TZNAME:PDT
DTSTART:20250309T100000
END:DAYLIGHT
BEGIN:STANDARD
TZOFFSETFROM:-0700
TZOFFSETTO:-0800
TZNAME:PST
DTSTART:20251102T090000
END:STANDARD
BEGIN:DAYLIGHT
TZOFFSETFROM:-0800
TZOFFSETTO:-0700
TZNAME:PDT
DTSTART:20260308T100000
END:DAYLIGHT
BEGIN:STANDARD
TZOFFSETFROM:-0700
TZOFFSETTO:-0800
TZNAME:PST
DTSTART:20261101T090000
END:STANDARD
END:VTIMEZONE
BEGIN:VEVENT
DTSTART;TZID=America/Vancouver:20251202T100000
DTEND;TZID=America/Vancouver:20251224T130000
DTSTAMP:20260419T155949
CREATED:20251128T205301Z
LAST-MODIFIED:20251201T235714Z
UID:15691-1764669600-1766581200@www.courtenaymuseum.ca
SUMMARY:Members-Only Sale
DESCRIPTION:Our annual Members-Only Gift Shop Sale begins this month! From December 2nd until December 24 at 1:00 PM\, members will receive a 25% off holiday discount on most products in the gift shop. This offer does not apply to items already marked down or on consignment. \nYour valid membership card must be shown at the time of purchase. Not a member? No worries! Purchase a membership at the museum or online\, and you immediately qualify for the discount
URL:https://www.courtenaymuseum.ca/events/members-only-sale/
LOCATION:BC
ATTACH;FMTTYPE=image/jpeg:https://www.courtenaymuseum.ca/wp-content/uploads/2025/11/photo-christmas2025.jpg
END:VEVENT
END:VCALENDAR