BEGIN:VCALENDAR
VERSION:2.0
PRODID:-//Courtenay and District Museum &amp; Palaeontology Centre - ECPv6.15.17.1//NONSGML v1.0//EN
CALSCALE:GREGORIAN
METHOD:PUBLISH
X-WR-CALNAME:Courtenay and District Museum &amp; Palaeontology Centre
X-ORIGINAL-URL:https://www.courtenaymuseum.ca
X-WR-CALDESC:Events for Courtenay and District Museum &amp; Palaeontology Centre
REFRESH-INTERVAL;VALUE=DURATION:PT1H
X-Robots-Tag:noindex
X-PUBLISHED-TTL:PT1H
BEGIN:VTIMEZONE
TZID:America/Vancouver
BEGIN:DAYLIGHT
TZOFFSETFROM:-0800
TZOFFSETTO:-0700
TZNAME:PDT
DTSTART:20250309T100000
END:DAYLIGHT
BEGIN:STANDARD
TZOFFSETFROM:-0700
TZOFFSETTO:-0800
TZNAME:PST
DTSTART:20251102T090000
END:STANDARD
BEGIN:DAYLIGHT
TZOFFSETFROM:-0800
TZOFFSETTO:-0700
TZNAME:PDT
DTSTART:20260308T100000
END:DAYLIGHT
BEGIN:STANDARD
TZOFFSETFROM:-0700
TZOFFSETTO:-0800
TZNAME:PST
DTSTART:20261101T090000
END:STANDARD
BEGIN:DAYLIGHT
TZOFFSETFROM:-0800
TZOFFSETTO:-0700
TZNAME:PDT
DTSTART:20270314T100000
END:DAYLIGHT
BEGIN:STANDARD
TZOFFSETFROM:-0700
TZOFFSETTO:-0800
TZNAME:PST
DTSTART:20271107T090000
END:STANDARD
END:VTIMEZONE
BEGIN:VEVENT
DTSTART;TZID=America/Vancouver:20260102T100000
DTEND;TZID=America/Vancouver:20260102T160000
DTSTAMP:20260419T140557
CREATED:20251128T213535Z
LAST-MODIFIED:20251128T213535Z
UID:15695-1767348000-1767369600@www.courtenaymuseum.ca
SUMMARY:First Day Open After the Holidays
DESCRIPTION:
URL:https://www.courtenaymuseum.ca/events/first-day-open-after-the-holidays/
LOCATION:Courtenay & District Museum\, 207 Fourth Street\, Courtenay\, BC\, V9N 1G7\, Canada
END:VEVENT
END:VCALENDAR