BEGIN:VCALENDAR
VERSION:2.0
PRODID:-//Courtenay and District Museum &amp; Palaeontology Centre - ECPv6.15.17.1//NONSGML v1.0//EN
CALSCALE:GREGORIAN
METHOD:PUBLISH
X-WR-CALNAME:Courtenay and District Museum &amp; Palaeontology Centre
X-ORIGINAL-URL:https://www.courtenaymuseum.ca
X-WR-CALDESC:Events for Courtenay and District Museum &amp; Palaeontology Centre
REFRESH-INTERVAL;VALUE=DURATION:PT1H
X-Robots-Tag:noindex
X-PUBLISHED-TTL:PT1H
BEGIN:VTIMEZONE
TZID:America/Vancouver
BEGIN:DAYLIGHT
TZOFFSETFROM:-0800
TZOFFSETTO:-0700
TZNAME:PDT
DTSTART:20250309T100000
END:DAYLIGHT
BEGIN:STANDARD
TZOFFSETFROM:-0700
TZOFFSETTO:-0800
TZNAME:PST
DTSTART:20251102T090000
END:STANDARD
BEGIN:DAYLIGHT
TZOFFSETFROM:-0800
TZOFFSETTO:-0700
TZNAME:PDT
DTSTART:20260308T100000
END:DAYLIGHT
BEGIN:STANDARD
TZOFFSETFROM:-0700
TZOFFSETTO:-0800
TZNAME:PST
DTSTART:20261101T090000
END:STANDARD
BEGIN:DAYLIGHT
TZOFFSETFROM:-0800
TZOFFSETTO:-0700
TZNAME:PDT
DTSTART:20270314T100000
END:DAYLIGHT
BEGIN:STANDARD
TZOFFSETFROM:-0700
TZOFFSETTO:-0800
TZNAME:PST
DTSTART:20271107T090000
END:STANDARD
END:VTIMEZONE
BEGIN:VEVENT
DTSTART;VALUE=DATE:20260110
DTEND;VALUE=DATE:20260226
DTSTAMP:20260419T140619
CREATED:20260204T012739Z
LAST-MODIFIED:20260204T012908Z
UID:15945-1768003200-1772063999@www.courtenaymuseum.ca
SUMMARY:Exhibit: New Acquisitions
DESCRIPTION:Have you ever wondered what’s recently been donated to your local museum? In celebration of the Comox Valley\, New Acquisitions will shine a spotlight on some of the donations that haven’t yet been seen by the public. \nThis Courtenay and District Museum curated exhibit is only possible because of this community; the families\, descendants and donors who trust the museum to preserve and interpret the natural and cultural heritage of this region. From decoy brants to deco lamps and anything in between\, this exhibit has something for everyone. \nContinue Reading
URL:https://www.courtenaymuseum.ca/events/exhibit-new-acquisitions/
LOCATION:BC
ATTACH;FMTTYPE=image/jpeg:https://www.courtenaymuseum.ca/wp-content/uploads/2025/12/2019.17.1-Boy-Bike.jpg
END:VEVENT
END:VCALENDAR